BEGIN:VCALENDAR
VERSION:2.0
PRODID:-//Plone.org//NONSGML plone.app.event//EN
X-WR-TIMEZONE:Europe/Madrid
BEGIN:VEVENT
SUMMARY:Documental del mes
DTSTART;TZID=Europe/Madrid;VALUE=DATE-TIME:20061103T213000
DTEND;TZID=Europe/Madrid;VALUE=DATE-TIME:20061103T223000
DTSTAMP;VALUE=DATE-TIME:20260423T032250Z
UID:14b0f35474d8be8f4f426ad425657157
CREATED;VALUE=DATE-TIME:20061103T000000Z
LOCATION:Aula Magna Escola Universitària de Teixits de Punt
ORGANIZER:ACPO
DESCRIPTION:His big white self
URL:https://www.canetdemar.cat/document.php?id=2616
END:VEVENT
END:VCALENDAR