BEGIN:VCALENDAR
VERSION:2.0
PRODID:-//Plone.org//NONSGML plone.app.event//EN
X-WR-TIMEZONE:Europe/Madrid
BEGIN:VEVENT
SUMMARY:Reunió amb una veïna
DTSTART;TZID=Europe/Madrid;VALUE=DATE-TIME:20240806T123000
DTEND;TZID=Europe/Madrid;VALUE=DATE-TIME:20240806T133000
DTSTAMP;VALUE=DATE-TIME:20260423T000820Z
UID:32e0cf3d97b8c48ee12828e6f35dfe2d
CREATED;VALUE=DATE-TIME:20240806T000000Z
CATEGORIES:Agenda institucional
LOCATION:Despatx de l'alcaldia
URL:https://www.canetdemar.cat/document.php?id=26157
END:VEVENT
END:VCALENDAR