BEGIN:VCALENDAR
VERSION:2.0
PRODID:-//Plone.org//NONSGML plone.app.event//EN
X-WR-TIMEZONE:Europe/Madrid
BEGIN:VEVENT
SUMMARY:Reunió interna - Comissió d'estudi del reglament de Teletreball
DTSTART;TZID=Europe/Madrid;VALUE=DATE-TIME:20240806T110000
DTEND;TZID=Europe/Madrid;VALUE=DATE-TIME:20240806T120000
DTSTAMP;VALUE=DATE-TIME:20260423T015141Z
UID:98297fc80b052e6aee3c041a682dd7ee
CREATED;VALUE=DATE-TIME:20240806T000000Z
CATEGORIES:Agenda institucional
LOCATION:Sala annexa Alcaldia
URL:https://www.canetdemar.cat/document.php?id=26155
END:VEVENT
END:VCALENDAR