BEGIN:VCALENDAR
VERSION:2.0
PRODID:-//Plone.org//NONSGML plone.app.event//EN
X-WR-TIMEZONE:Europe/Madrid
BEGIN:VEVENT
SUMMARY:Reunió amb veïns
DTSTART;TZID=Europe/Madrid;VALUE=DATE-TIME:20240805T113000
DTEND;TZID=Europe/Madrid;VALUE=DATE-TIME:20240805T123000
DTSTAMP;VALUE=DATE-TIME:20260424T071539Z
UID:34a9821eec969d48b49c0274bebb671d
CREATED;VALUE=DATE-TIME:20240805T000000Z
CATEGORIES:Agenda institucional
LOCATION:Despatx de l'alcaldia
URL:https://www.canetdemar.cat/document.php?id=26152
END:VEVENT
END:VCALENDAR