BEGIN:VCALENDAR
VERSION:2.0
PRODID:-//Plone.org//NONSGML plone.app.event//EN
X-WR-TIMEZONE:Europe/Madrid
BEGIN:VEVENT
SUMMARY:Concert
DTSTART;TZID=Europe/Madrid;VALUE=DATE-TIME:20061029T180000
DTEND;TZID=Europe/Madrid;VALUE=DATE-TIME:20061029T190000
DTSTAMP;VALUE=DATE-TIME:20260424T101218Z
UID:ba03301d683b32d9c5f69b2dd2ed17c3
CREATED;VALUE=DATE-TIME:20061029T000000Z
LOCATION:Envelat de Vil·la Flora
ORGANIZER:ACPO
DESCRIPTION:New Orleans Blue Stompers
URL:https://www.canetdemar.cat/document.php?id=2615
END:VEVENT
END:VCALENDAR