BEGIN:VCALENDAR
VERSION:2.0
PRODID:-//Plone.org//NONSGML plone.app.event//EN
X-WR-TIMEZONE:Europe/Madrid
BEGIN:VEVENT
SUMMARY:Reunió coordinació amb les àrees d'Alcaldia i Comunicació
DTSTART;TZID=Europe/Madrid;VALUE=DATE-TIME:20240805T093000
DTEND;TZID=Europe/Madrid;VALUE=DATE-TIME:20240805T103000
DTSTAMP;VALUE=DATE-TIME:20260420T101300Z
UID:dd59c7067acec6539aecda3a72211250
CREATED;VALUE=DATE-TIME:20240805T000000Z
CATEGORIES:Agenda institucional
LOCATION:Despatx de l'alcaldia
URL:https://www.canetdemar.cat/document.php?id=26147
END:VEVENT
END:VCALENDAR