BEGIN:VCALENDAR
VERSION:2.0
PRODID:-//Plone.org//NONSGML plone.app.event//EN
X-WR-TIMEZONE:Europe/Madrid
BEGIN:VEVENT
SUMMARY:SEMINARI de formació associativa i ciutadana
DTSTART;TZID=Europe/Madrid;VALUE=DATE-TIME:20061117T190000
DTEND;TZID=Europe/Madrid;VALUE=DATE-TIME:20061117T200000
DTSTAMP;VALUE=DATE-TIME:20260422T144724Z
UID:77097fd09ef98c9c96a2136b614d4fcd
CREATED;VALUE=DATE-TIME:20061117T000000Z
LOCATION:Centre cívic Vil.la Flora
ORGANIZER:Departament de Participació Ciutadana
DESCRIPTION:El finançament de les associacions
URL:https://www.canetdemar.cat/document.php?id=2612
END:VEVENT
END:VCALENDAR