BEGIN:VCALENDAR
VERSION:2.0
PRODID:-//Plone.org//NONSGML plone.app.event//EN
X-WR-TIMEZONE:Europe/Madrid
BEGIN:VEVENT
SUMMARY:Reunió amb responsables del Castell de Santa Florentina
DTSTART;TZID=Europe/Madrid;VALUE=DATE-TIME:20240723T120000
DTEND;TZID=Europe/Madrid;VALUE=DATE-TIME:20240723T130000
DTSTAMP;VALUE=DATE-TIME:20260424T201523Z
UID:ac167ee67e4e0c768549ce19030e74b1
CREATED;VALUE=DATE-TIME:20240723T000000Z
CATEGORIES:Agenda institucional
LOCATION:Despatx de l'alcaldia
URL:https://www.canetdemar.cat/document.php?id=26104
END:VEVENT
END:VCALENDAR