BEGIN:VCALENDAR
VERSION:2.0
PRODID:-//Plone.org//NONSGML plone.app.event//EN
X-WR-TIMEZONE:Europe/Madrid
BEGIN:VEVENT
SUMMARY:Consell d'Alcaldies del Maresme
DTSTART;TZID=Europe/Madrid;VALUE=DATE-TIME:20240712T130000
DTEND;TZID=Europe/Madrid;VALUE=DATE-TIME:20240712T140000
DTSTAMP;VALUE=DATE-TIME:20260421T132343Z
UID:cc341cd29a5d15bca6d800507d342dd3
CREATED;VALUE=DATE-TIME:20240712T000000Z
CATEGORIES:Agenda institucional
LOCATION:CCM - Centre Cívic Cabot i Barba
URL:https://www.canetdemar.cat/document.php?id=26056
END:VEVENT
END:VCALENDAR