BEGIN:VCALENDAR
VERSION:2.0
PRODID:-//Plone.org//NONSGML plone.app.event//EN
X-WR-TIMEZONE:Europe/Madrid
BEGIN:VEVENT
SUMMARY:Entrevista 'Espai Alcaldia' de Ràdio Canet
DTSTART;TZID=Europe/Madrid;VALUE=DATE-TIME:20240710T111500
DTEND;TZID=Europe/Madrid;VALUE=DATE-TIME:20240710T121500
DTSTAMP;VALUE=DATE-TIME:20260420T033114Z
UID:7ba17e8590bc81cfc937c518577e0083
CREATED;VALUE=DATE-TIME:20240710T000000Z
CATEGORIES:Agenda institucional
LOCATION:Estudis de Ràdio Canet
URL:https://www.canetdemar.cat/document.php?id=26050
END:VEVENT
END:VCALENDAR