BEGIN:VCALENDAR
VERSION:2.0
PRODID:-//Plone.org//NONSGML plone.app.event//EN
X-WR-TIMEZONE:Europe/Madrid
BEGIN:VEVENT
SUMMARY:Recepció donació la Fundació Els Garrofers
DTSTART;TZID=Europe/Madrid;VALUE=DATE-TIME:20240710T100000
DTEND;TZID=Europe/Madrid;VALUE=DATE-TIME:20240710T110000
DTSTAMP;VALUE=DATE-TIME:20260420T033100Z
UID:d01c28974bb6d69a4e3ed5922bc44c2a
CREATED;VALUE=DATE-TIME:20240710T000000Z
CATEGORIES:Agenda institucional
LOCATION:Seu de la Fundació Els Garrofers
URL:https://www.canetdemar.cat/document.php?id=26049
END:VEVENT
END:VCALENDAR