BEGIN:VCALENDAR
VERSION:2.0
PRODID:-//Plone.org//NONSGML plone.app.event//EN
X-WR-TIMEZONE:Europe/Madrid
BEGIN:VEVENT
SUMMARY:Reunió amb una veïna de Canet
DTSTART;TZID=Europe/Madrid;VALUE=DATE-TIME:20240708T083000
DTEND;TZID=Europe/Madrid;VALUE=DATE-TIME:20240708T093000
DTSTAMP;VALUE=DATE-TIME:20260421T160151Z
UID:02f97b58bf6a87dbbd872ccdcc1eda55
CREATED;VALUE=DATE-TIME:20240708T000000Z
CATEGORIES:Agenda institucional
LOCATION:Cementiri Municipal
URL:https://www.canetdemar.cat/document.php?id=26043
END:VEVENT
END:VCALENDAR