BEGIN:VCALENDAR
VERSION:2.0
PRODID:-//Plone.org//NONSGML plone.app.event//EN
X-WR-TIMEZONE:Europe/Madrid
BEGIN:VEVENT
SUMMARY:Assistència al Festival Canet Rock
DTSTART;TZID=Europe/Madrid;VALUE=DATE-TIME:20240706T180000
DTEND;TZID=Europe/Madrid;VALUE=DATE-TIME:20240706T190000
DTSTAMP;VALUE=DATE-TIME:20260424T150634Z
UID:b3232bed38e463fb78322bf660fbc6c7
CREATED;VALUE=DATE-TIME:20240706T000000Z
CATEGORIES:Agenda institucional
LOCATION:Pla d'en Sala
URL:https://www.canetdemar.cat/document.php?id=26037
END:VEVENT
END:VCALENDAR