BEGIN:VCALENDAR
VERSION:2.0
PRODID:-//Plone.org//NONSGML plone.app.event//EN
X-WR-TIMEZONE:Europe/Madrid
BEGIN:VEVENT
SUMMARY:CANET ROCK | Recepció al M. H. Sr. Pere Aragonés, president de la Generalitat de Catalunya
DTSTART;TZID=Europe/Madrid;VALUE=DATE-TIME:20240706T180000
DTEND;TZID=Europe/Madrid;VALUE=DATE-TIME:20240706T190000
DTSTAMP;VALUE=DATE-TIME:20260425T181200Z
UID:e5e6650afdd468d6c273d49ef38a8649
CREATED;VALUE=DATE-TIME:20240706T000000Z
CATEGORIES:Agenda institucional
LOCATION:Pla d'en Sala
URL:https://www.canetdemar.cat/document.php?id=26035
END:VEVENT
END:VCALENDAR