BEGIN:VCALENDAR
VERSION:2.0
PRODID:-//Plone.org//NONSGML plone.app.event//EN
X-WR-TIMEZONE:Europe/Madrid
BEGIN:VEVENT
SUMMARY:Junta de Govern Local
DTSTART;TZID=Europe/Madrid;VALUE=DATE-TIME:20240704T170000
DTEND;TZID=Europe/Madrid;VALUE=DATE-TIME:20240704T180000
DTSTAMP;VALUE=DATE-TIME:20260423T153253Z
UID:bfe727fa480220d9ca26780f14b5d64f
CREATED;VALUE=DATE-TIME:20240704T000000Z
CATEGORIES:Agenda institucional
LOCATION:Sala annexa Alcaldia
URL:https://www.canetdemar.cat/document.php?id=26018
END:VEVENT
END:VCALENDAR