BEGIN:VCALENDAR
VERSION:2.0
PRODID:-//Plone.org//NONSGML plone.app.event//EN
X-WR-TIMEZONE:Europe/Madrid
BEGIN:VEVENT
SUMMARY:Assistència a la Festa de Fi de Curs Sàlvia
DTSTART;TZID=Europe/Madrid;VALUE=DATE-TIME:20240703T180000
DTEND;TZID=Europe/Madrid;VALUE=DATE-TIME:20240703T190000
DTSTAMP;VALUE=DATE-TIME:20260425T205021Z
UID:0ed32a141e00a10f1c07c47d4f3d09dd
CREATED;VALUE=DATE-TIME:20240703T000000Z
CATEGORIES:Agenda institucional
LOCATION:Envelat de Vil·la Flora
URL:https://www.canetdemar.cat/document.php?id=26017
END:VEVENT
END:VCALENDAR