BEGIN:VCALENDAR
VERSION:2.0
PRODID:-//Plone.org//NONSGML plone.app.event//EN
X-WR-TIMEZONE:Europe/Madrid
BEGIN:VEVENT
SUMMARY:Entrevista 'Espai Alcaldia'
DTSTART;TZID=Europe/Madrid;VALUE=DATE-TIME:20240703T110000
DTEND;TZID=Europe/Madrid;VALUE=DATE-TIME:20240703T120000
DTSTAMP;VALUE=DATE-TIME:20260426T001134Z
UID:cffe2603bbea9fae6783398b0fe39352
CREATED;VALUE=DATE-TIME:20240703T000000Z
CATEGORIES:Agenda institucional
LOCATION:Estudis de Ràdio Canet
URL:https://www.canetdemar.cat/document.php?id=26016
END:VEVENT
END:VCALENDAR