BEGIN:VCALENDAR
VERSION:2.0
PRODID:-//Plone.org//NONSGML plone.app.event//EN
X-WR-TIMEZONE:Europe/Madrid
BEGIN:VEVENT
SUMMARY:Reunió amb un veí de Canet
DTSTART;TZID=Europe/Madrid;VALUE=DATE-TIME:20240703T090000
DTEND;TZID=Europe/Madrid;VALUE=DATE-TIME:20240703T100000
DTSTAMP;VALUE=DATE-TIME:20260424T053502Z
UID:79e5fbebf35d22076df29a8b16c9db28
CREATED;VALUE=DATE-TIME:20240703T000000Z
CATEGORIES:Agenda institucional
LOCATION:Despatx de l'alcaldia
URL:https://www.canetdemar.cat/document.php?id=26015
END:VEVENT
END:VCALENDAR