BEGIN:VCALENDAR
VERSION:2.0
PRODID:-//Plone.org//NONSGML plone.app.event//EN
X-WR-TIMEZONE:Europe/Madrid
BEGIN:VEVENT
SUMMARY:Junta de Govern Local
DTSTART;TZID=Europe/Madrid;VALUE=DATE-TIME:20240626T170000
DTEND;TZID=Europe/Madrid;VALUE=DATE-TIME:20240626T180000
DTSTAMP;VALUE=DATE-TIME:20260422T235402Z
UID:20a298bc7a53c09fb287f8b9f560ea48
CREATED;VALUE=DATE-TIME:20240626T000000Z
CATEGORIES:Agenda institucional
LOCATION:Sala annexa Alcaldia
URL:https://www.canetdemar.cat/document.php?id=25993
END:VEVENT
END:VCALENDAR