BEGIN:VCALENDAR
VERSION:2.0
PRODID:-//Plone.org//NONSGML plone.app.event//EN
X-WR-TIMEZONE:Europe/Madrid
BEGIN:VEVENT
SUMMARY:Reunió amb el Conseller Comarcal de Medi Ambient
DTSTART;TZID=Europe/Madrid;VALUE=DATE-TIME:20240625T093000
DTEND;TZID=Europe/Madrid;VALUE=DATE-TIME:20240625T103000
DTSTAMP;VALUE=DATE-TIME:20260424T111458Z
UID:fa978584918f6248ff53da7eb2a1a2a6
CREATED;VALUE=DATE-TIME:20240625T000000Z
CATEGORIES:Agenda institucional
LOCATION:Sala annexa Alcaldia
URL:https://www.canetdemar.cat/document.php?id=25992
END:VEVENT
END:VCALENDAR