BEGIN:VCALENDAR
VERSION:2.0
PRODID:-//Plone.org//NONSGML plone.app.event//EN
X-WR-TIMEZONE:Europe/Madrid
BEGIN:VEVENT
SUMMARY:Assistència a la Ballada de Sardanes de Festa Major amb la Copla Contemporània
DTSTART;TZID=Europe/Madrid;VALUE=DATE-TIME:20240622T193000
DTEND;TZID=Europe/Madrid;VALUE=DATE-TIME:20240622T203000
DTSTAMP;VALUE=DATE-TIME:20260424T102101Z
UID:a6f4ca720cbe6c92d7f1df46d080f46c
CREATED;VALUE=DATE-TIME:20240622T000000Z
CATEGORIES:Agenda institucional
LOCATION:Riera Sant Domènec
URL:https://www.canetdemar.cat/document.php?id=25984
END:VEVENT
END:VCALENDAR