BEGIN:VCALENDAR
VERSION:2.0
PRODID:-//Plone.org//NONSGML plone.app.event//EN
X-WR-TIMEZONE:Europe/Madrid
BEGIN:VEVENT
SUMMARY:Assistència a l'acte de presentació de l'APP 'És Canet'
DTSTART;TZID=Europe/Madrid;VALUE=DATE-TIME:20240621T200000
DTEND;TZID=Europe/Madrid;VALUE=DATE-TIME:20240621T210000
DTSTAMP;VALUE=DATE-TIME:20260425T060340Z
UID:aeb7ba09daf66a972ad7254185358f5a
CREATED;VALUE=DATE-TIME:20240621T000000Z
CATEGORIES:Agenda institucional
LOCATION:Carrer Ample
URL:https://www.canetdemar.cat/document.php?id=25981
END:VEVENT
END:VCALENDAR