BEGIN:VCALENDAR
VERSION:2.0
PRODID:-//Plone.org//NONSGML plone.app.event//EN
X-WR-TIMEZONE:Europe/Madrid
BEGIN:VEVENT
SUMMARY:Assistència a l'acte inaugural de la Jornada Indiana
DTSTART;TZID=Europe/Madrid;VALUE=DATE-TIME:20240615T100000
DTEND;TZID=Europe/Madrid;VALUE=DATE-TIME:20240615T110000
DTSTAMP;VALUE=DATE-TIME:20260423T155041Z
UID:a746297acf0ca42986ce157edfd29186
CREATED;VALUE=DATE-TIME:20240615T000000Z
CATEGORIES:Agenda institucional
LOCATION:Ajuntament de Sant Pol de Mar
URL:https://www.canetdemar.cat/document.php?id=25960
END:VEVENT
END:VCALENDAR