BEGIN:VCALENDAR
VERSION:2.0
PRODID:-//Plone.org//NONSGML plone.app.event//EN
X-WR-TIMEZONE:Europe/Madrid
BEGIN:VEVENT
SUMMARY:Passejada nocturna per la història de Canet
DTSTART;TZID=Europe/Madrid;VALUE=DATE-TIME:20240720T210000
DTEND;TZID=Europe/Madrid;VALUE=DATE-TIME:20240720T220000
DTSTAMP;VALUE=DATE-TIME:20260426T031309Z
UID:ab753ba3fa271547ad5da5c3ce327030
CREATED;VALUE=DATE-TIME:20240720T000000Z
LOCATION:Sortida des de la plaça 1 d'octubre
ORGANIZER:Associació Canet Cultural, Àrea de Cultura i Àrea de Festes
DESCRIPTION:Activitats de Festa Major
URL:https://www.canetdemar.cat/document.php?id=25899
END:VEVENT
END:VCALENDAR