BEGIN:VCALENDAR
VERSION:2.0
PRODID:-//Plone.org//NONSGML plone.app.event//EN
X-WR-TIMEZONE:Europe/Madrid
BEGIN:VEVENT
SUMMARY:12è Festival K80NET
DTSTART;TZID=Europe/Madrid;VALUE=DATE-TIME:20240713T233000
DTEND;TZID=Europe/Madrid;VALUE=DATE-TIME:20240714T003000
DTSTAMP;VALUE=DATE-TIME:20260422T143236Z
UID:e405d13abdf4b26d9c364f937ba928ac
CREATED;VALUE=DATE-TIME:20240713T000000Z
LOCATION:passeig Marítim davant l'antiga Oficina de Turisme
ORGANIZER:Associació K80 NET i Àrea de Festes
DESCRIPTION:Activitats de Festa Major
URL:https://www.canetdemar.cat/document.php?id=25895
END:VEVENT
END:VCALENDAR