BEGIN:VCALENDAR
VERSION:2.0
PRODID:-//Plone.org//NONSGML plone.app.event//EN
X-WR-TIMEZONE:Europe/Madrid
BEGIN:VEVENT
SUMMARY:Comissió informativa
DTSTART;TZID=Europe/Madrid;VALUE=DATE-TIME:20240613T173000
DTEND;TZID=Europe/Madrid;VALUE=DATE-TIME:20240613T183000
DTSTAMP;VALUE=DATE-TIME:20260424T023632Z
UID:f22d2e7a9e19fcf9f78e8b86d70cb8fb
CREATED;VALUE=DATE-TIME:20240613T000000Z
CATEGORIES:Agenda institucional
LOCATION:Sala de plens
URL:https://www.canetdemar.cat/document.php?id=25889
END:VEVENT
END:VCALENDAR