BEGIN:VCALENDAR
VERSION:2.0
PRODID:-//Plone.org//NONSGML plone.app.event//EN
X-WR-TIMEZONE:Europe/Madrid
BEGIN:VEVENT
SUMMARY:XXIV Cantada d'Havaneres
DTSTART;TZID=Europe/Madrid;VALUE=DATE-TIME:20240705T220000
DTEND;TZID=Europe/Madrid;VALUE=DATE-TIME:20240705T230000
DTSTAMP;VALUE=DATE-TIME:20260423T054212Z
UID:99cc543c3df5b4150e5ae24001755634
CREATED;VALUE=DATE-TIME:20240705T000000Z
LOCATION:passeig Marítim
ORGANIZER:Comissió d'havaneres i Comissió de festes
DESCRIPTION:Activitats de Festa Major
URL:https://www.canetdemar.cat/document.php?id=25881
END:VEVENT
END:VCALENDAR