BEGIN:VCALENDAR
VERSION:2.0
PRODID:-//Plone.org//NONSGML plone.app.event//EN
X-WR-TIMEZONE:Europe/Madrid
BEGIN:VEVENT
SUMMARY:XXXVII Trobada de Gegants
DTSTART;TZID=Europe/Madrid;VALUE=DATE-TIME:20240630T170000
DTEND;TZID=Europe/Madrid;VALUE=DATE-TIME:20240630T180000
DTSTAMP;VALUE=DATE-TIME:20260423T064001Z
UID:d728f9602454e39928836ad6d57a1c89
CREATED;VALUE=DATE-TIME:20240630T000000Z
DESCRIPTION:Activitats de Festa Major
URL:https://www.canetdemar.cat/document.php?id=25880
END:VEVENT
END:VCALENDAR