BEGIN:VCALENDAR
VERSION:2.0
PRODID:-//Plone.org//NONSGML plone.app.event//EN
X-WR-TIMEZONE:Europe/Madrid
BEGIN:VEVENT
SUMMARY:III Trobada de Batxillerats d'Arts Escèniques
DTSTART;TZID=Europe/Madrid;VALUE=DATE-TIME:20240607T170000
DTEND;TZID=Europe/Madrid;VALUE=DATE-TIME:20240607T180000
DTSTAMP;VALUE=DATE-TIME:20260423T045537Z
UID:42a91576b7166f941e5424e9b4bb0521
CREATED;VALUE=DATE-TIME:20240607T000000Z
CATEGORIES:Dansa,Música,Teatre
LOCATION:Teatre Odèon
ORGANIZER:Institut Lluís Domènech i Montaner
COMMENT:Preu: Gratuït
Durada: de 17h a 18h
DESCRIPTION:Mostra de treballs de creació al Teatre Odèon
URL:https://www.canetdemar.cat/document.php?id=25873
END:VEVENT
END:VCALENDAR