BEGIN:VCALENDAR
VERSION:2.0
PRODID:-//Plone.org//NONSGML plone.app.event//EN
X-WR-TIMEZONE:Europe/Madrid
BEGIN:VEVENT
SUMMARY:Recepció Comparsa Mascaradas i Cimarrona de Costa Rica
DTSTART;TZID=Europe/Madrid;VALUE=DATE-TIME:20240610T113000
DTEND;TZID=Europe/Madrid;VALUE=DATE-TIME:20240610T123000
DTSTAMP;VALUE=DATE-TIME:20260424T075158Z
UID:922ebf972816a075e3a21fbd142fe5b6
CREATED;VALUE=DATE-TIME:20240610T000000Z
CATEGORIES:Agenda institucional
LOCATION:Sala de plens - Carrer Ample, 11
URL:https://www.canetdemar.cat/document.php?id=25852
END:VEVENT
END:VCALENDAR