BEGIN:VCALENDAR
VERSION:2.0
PRODID:-//Plone.org//NONSGML plone.app.event//EN
X-WR-TIMEZONE:Europe/Madrid
BEGIN:VEVENT
SUMMARY:Festival Plat i Cullera
DTSTART;TZID=Europe/Madrid;VALUE=DATE-TIME:20240623T180000
DTEND;TZID=Europe/Madrid;VALUE=DATE-TIME:20240623T190000
DTSTAMP;VALUE=DATE-TIME:20260423T131756Z
UID:348e7ea8a3c76de63b26f3c402cce6a7
CREATED;VALUE=DATE-TIME:20240623T000000Z
LOCATION:TMC Centru
DESCRIPTION:Activitats de Festa Major
URL:https://www.canetdemar.cat/document.php?id=25848
END:VEVENT
END:VCALENDAR