BEGIN:VCALENDAR
VERSION:2.0
PRODID:-//Plone.org//NONSGML plone.app.event//EN
X-WR-TIMEZONE:Europe/Madrid
BEGIN:VEVENT
SUMMARY:Assistència a l'acte de neteja del fons marí organitzada per l'entitat Thalassa Canet
DTSTART;TZID=Europe/Madrid;VALUE=DATE-TIME:20240609T110000
DTEND;TZID=Europe/Madrid;VALUE=DATE-TIME:20240609T120000
DTSTAMP;VALUE=DATE-TIME:20260424T211414Z
UID:a0b0c9876814734d3a61ad46198060b9
CREATED;VALUE=DATE-TIME:20240609T000000Z
CATEGORIES:Agenda institucional
LOCATION:Zona Neptú
URL:https://www.canetdemar.cat/document.php?id=25847
END:VEVENT
END:VCALENDAR