BEGIN:VCALENDAR
VERSION:2.0
PRODID:-//Plone.org//NONSGML plone.app.event//EN
X-WR-TIMEZONE:Europe/Madrid
BEGIN:VEVENT
SUMMARY:Circ Cric
DTSTART;TZID=Europe/Madrid;VALUE=DATE-TIME:20061007T190000
DTEND;TZID=Europe/Madrid;VALUE=DATE-TIME:20061007T200000
DTSTAMP;VALUE=DATE-TIME:20260423T220455Z
UID:d6ea211da995f6ee128c4c13cf425253
CREATED;VALUE=DATE-TIME:20061007T000000Z
DESCRIPTION:7 i 8 d'octubre
URL:https://www.canetdemar.cat/document.php?id=2584
END:VEVENT
END:VCALENDAR