BEGIN:VCALENDAR
VERSION:2.0
PRODID:-//Plone.org//NONSGML plone.app.event//EN
X-WR-TIMEZONE:Europe/Madrid
BEGIN:VEVENT
SUMMARY:Exposició de fotografies: Mar d'ahir mar d'avui
DTSTART;TZID=Europe/Madrid;VALUE=DATE-TIME:20240721T000000
DTEND;TZID=Europe/Madrid;VALUE=DATE-TIME:20240721T010000
DTSTAMP;VALUE=DATE-TIME:20260423T220110Z
UID:20023c699e3a1e58091260d68b716930
CREATED;VALUE=DATE-TIME:20240621T000000Z
LOCATION:Sala Cultural Ramon de Capmany
ORGANIZER:Associació Thalassa, Centre d'Estudis Canetencs i Àrea de Cultura
COMMENT:Durada: del 21 de juny al 6 de juliol de 2024
DESCRIPTION:Activitats de Festa Major
URL:https://www.canetdemar.cat/document.php?id=25822
END:VEVENT
END:VCALENDAR