BEGIN:VCALENDAR
VERSION:2.0
PRODID:-//Plone.org//NONSGML plone.app.event//EN
X-WR-TIMEZONE:Europe/Madrid
BEGIN:VEVENT
SUMMARY:Tecnodeon
DTSTART;TZID=Europe/Madrid;VALUE=DATE-TIME:20240614T220000
DTEND;TZID=Europe/Madrid;VALUE=DATE-TIME:20240614T230000
DTSTAMP;VALUE=DATE-TIME:20260424T211445Z
UID:5f1638bee12025fa45d60dd55264c3a1
CREATED;VALUE=DATE-TIME:20240614T000000Z
LOCATION:passeig Marítim davant l'antiga Oficina de Turisme
ORGANIZER:Vocalia jove de l'ACPO i Àrea de Cultura
DESCRIPTION:Activitats de Festa Major
URL:https://www.canetdemar.cat/document.php?id=25815
END:VEVENT
END:VCALENDAR