BEGIN:VCALENDAR
VERSION:2.0
PRODID:-//Plone.org//NONSGML plone.app.event//EN
X-WR-TIMEZONE:Europe/Madrid
BEGIN:VEVENT
SUMMARY:Hora del conte: Raïm i formatge. Conte amb titelles
DTSTART;TZID=Europe/Madrid;VALUE=DATE-TIME:20240712T180000
DTEND;TZID=Europe/Madrid;VALUE=DATE-TIME:20240712T190000
DTSTAMP;VALUE=DATE-TIME:20260423T234405Z
UID:47fce3390912c436e1627bc084f5a2d7
CREATED;VALUE=DATE-TIME:20240712T000000Z
CATEGORIES:Infantils
LOCATION:Biblioteca P. Gual i Pujadas
COMMENT:Preu: Gratuït
DESCRIPTION:amb la Laura Asensio
URL:https://www.canetdemar.cat/document.php?id=25807
END:VEVENT
END:VCALENDAR