BEGIN:VCALENDAR
VERSION:2.0
PRODID:-//Plone.org//NONSGML plone.app.event//EN
X-WR-TIMEZONE:Europe/Madrid
BEGIN:VEVENT
SUMMARY:Sortida a la vall de Núria
DTSTART;TZID=Europe/Madrid;VALUE=DATE-TIME:20240702T000000
DTEND;TZID=Europe/Madrid;VALUE=DATE-TIME:20240702T010000
DTSTAMP;VALUE=DATE-TIME:20260423T104514Z
UID:990f00c9885c3cffad35d9d34a99a36b
CREATED;VALUE=DATE-TIME:20240702T000000Z
CATEGORIES:Festa
LOCATION:Sortida de Canet desde parada bus Comediants
ORGANIZER:SALVIA ASSOCIACIÓ DE DONES
COMMENT:Preu: 35 &euro; socies I parella  i  55 &euro;  no socis.
Durada: Sortida 8 del matí  -  tornada 21 hores
URL:https://www.canetdemar.cat/document.php?id=25803
END:VEVENT
END:VCALENDAR