BEGIN:VCALENDAR
VERSION:2.0
PRODID:-//Plone.org//NONSGML plone.app.event//EN
X-WR-TIMEZONE:Europe/Madrid
BEGIN:VEVENT
SUMMARY:Conferència: Celíacs i el gluten
DTSTART;TZID=Europe/Madrid;VALUE=DATE-TIME:20240611T180000
DTEND;TZID=Europe/Madrid;VALUE=DATE-TIME:20240611T190000
DTSTAMP;VALUE=DATE-TIME:20260423T083140Z
UID:3bd2c8ff5927f621fdde9c3a652e08e2
CREATED;VALUE=DATE-TIME:20240611T000000Z
CATEGORIES:Conferència
LOCATION:Sala Cultural Ramon de Capmany
ORGANIZER:SALVIA ASSOCIACIÓ DE DONES
COMMENT:Durada: Aproximadament 90 minuts
URL:https://www.canetdemar.cat/document.php?id=25801
END:VEVENT
END:VCALENDAR