BEGIN:VCALENDAR
VERSION:2.0
PRODID:-//Plone.org//NONSGML plone.app.event//EN
X-WR-TIMEZONE:Europe/Madrid
BEGIN:VEVENT
SUMMARY:62è Mercat de segona mà i intercanvi
DTSTART;TZID=Europe/Madrid;VALUE=DATE-TIME:20240615T100000
DTEND;TZID=Europe/Madrid;VALUE=DATE-TIME:20240615T110000
DTSTAMP;VALUE=DATE-TIME:20260423T190608Z
UID:722708122afed3eba685350483cf7929
CREATED;VALUE=DATE-TIME:20240615T000000Z
LOCATION:plaça Mercat
ORGANIZER:Àrea de Medi Ambient
COMMENT:Durada: de 10.00 a 14.00 hores
URL:https://www.canetdemar.cat/document.php?id=25773
END:VEVENT
END:VCALENDAR