BEGIN:VCALENDAR
VERSION:2.0
PRODID:-//Plone.org//NONSGML plone.app.event//EN
X-WR-TIMEZONE:Europe/Madrid
BEGIN:VEVENT
SUMMARY:Ruta modernista i Casa museu
DTSTART;TZID=Europe/Madrid;VALUE=DATE-TIME:20241020T110000
DTEND;TZID=Europe/Madrid;VALUE=DATE-TIME:20241020T120000
DTSTAMP;VALUE=DATE-TIME:20260423T032435Z
UID:44b8e634d41992e137b5acd64892b9ad
CREATED;VALUE=DATE-TIME:20241020T000000Z
LOCATION:Punt de trobada: Casa museu Lluís Domènech i Montaner
ORGANIZER:Àrea de Cultura - Ajuntament de Canet de Mar
COMMENT:Preu: 10&euro; (descompte jubilat, estudiant, carnet de biblioteca 6&euro;)
Durada: 1h 30'
URL:https://www.canetdemar.cat/document.php?id=25754
END:VEVENT
END:VCALENDAR