BEGIN:VCALENDAR
VERSION:2.0
PRODID:-//Plone.org//NONSGML plone.app.event//EN
X-WR-TIMEZONE:Europe/Madrid
BEGIN:VEVENT
SUMMARY:Teatre: "Dios da agua ... (el musical)"
DTSTART;TZID=Europe/Madrid;VALUE=DATE-TIME:20030405T220000
DTEND;TZID=Europe/Madrid;VALUE=DATE-TIME:20030405T230000
DTSTAMP;VALUE=DATE-TIME:20260422T182733Z
UID:3b1b330a936d7692eef5e375a8fc7e4b
CREATED;VALUE=DATE-TIME:20030405T000000Z
URL:https://www.canetdemar.cat/document.php?id=257
END:VEVENT
END:VCALENDAR