BEGIN:VCALENDAR
VERSION:2.0
PRODID:-//Plone.org//NONSGML plone.app.event//EN
X-WR-TIMEZONE:Europe/Madrid
BEGIN:VEVENT
SUMMARY:Reunió amb un veí de Canet
DTSTART;TZID=Europe/Madrid;VALUE=DATE-TIME:20240516T110000
DTEND;TZID=Europe/Madrid;VALUE=DATE-TIME:20240516T120000
DTSTAMP;VALUE=DATE-TIME:20260423T103633Z
UID:b79a3191b9d335c9e1f9c683e701dced
CREATED;VALUE=DATE-TIME:20240516T000000Z
CATEGORIES:Agenda institucional
LOCATION:Despatx de l'alcaldia - Carrer Ample, 11
URL:https://www.canetdemar.cat/document.php?id=25693
END:VEVENT
END:VCALENDAR