BEGIN:VCALENDAR
VERSION:2.0
PRODID:-//Plone.org//NONSGML plone.app.event//EN
X-WR-TIMEZONE:Europe/Madrid
BEGIN:VEVENT
SUMMARY:Assistència a la conferència: Estudi de la vinculació de la dona a les indústries tèxtils a Canet
DTSTART;TZID=Europe/Madrid;VALUE=DATE-TIME:20240515T120000
DTEND;TZID=Europe/Madrid;VALUE=DATE-TIME:20240515T130000
DTSTAMP;VALUE=DATE-TIME:20260423T153223Z
UID:da11a402dbc7bcbb5972ca8a5f9e37ca
CREATED;VALUE=DATE-TIME:20240515T000000Z
CATEGORIES:Agenda institucional
LOCATION:Aula Magna CRTTT - Escola de Teixits
URL:https://www.canetdemar.cat/document.php?id=25691
END:VEVENT
END:VCALENDAR