BEGIN:VCALENDAR
VERSION:2.0
PRODID:-//Plone.org//NONSGML plone.app.event//EN
X-WR-TIMEZONE:Europe/Madrid
BEGIN:VEVENT
SUMMARY:Exposició: Cavall Fort celebra 60 anys
DTSTART;TZID=Europe/Madrid;VALUE=DATE-TIME:20240808T000000
DTEND;TZID=Europe/Madrid;VALUE=DATE-TIME:20240808T010000
DTSTAMP;VALUE=DATE-TIME:20260423T103729Z
UID:4fe012bf6050236b82cdd527fb5dcdea
CREATED;VALUE=DATE-TIME:20240718T000000Z
CATEGORIES:Exposició
LOCATION:Biblioteca P. Gual i Pujadas
ORGANIZER:Biblioteca P. Gual i Pujadas
COMMENT:Preu: Gratuït
Durada: del 18 de juliol al 8 d'agost
URL:https://www.canetdemar.cat/document.php?id=25677
END:VEVENT
END:VCALENDAR