BEGIN:VCALENDAR
VERSION:2.0
PRODID:-//Plone.org//NONSGML plone.app.event//EN
X-WR-TIMEZONE:Europe/Madrid
BEGIN:VEVENT
SUMMARY:Pocket Hockey
DTSTART;TZID=Europe/Madrid;VALUE=DATE-TIME:20240616T110000
DTEND;TZID=Europe/Madrid;VALUE=DATE-TIME:20240616T120000
DTSTAMP;VALUE=DATE-TIME:20260425T010728Z
UID:fc91f4ead224bfbcededa90b11a6d87a
CREATED;VALUE=DATE-TIME:20240616T000000Z
ORGANIZER:Club Hoquei Canet
COMMENT:Durada: d'11.00 a 13.00 hores
URL:https://www.canetdemar.cat/document.php?id=25623
END:VEVENT
END:VCALENDAR