BEGIN:VCALENDAR
VERSION:2.0
PRODID:-//Plone.org//NONSGML plone.app.event//EN
X-WR-TIMEZONE:Europe/Madrid
BEGIN:VEVENT
SUMMARY:Hora del conte: Un mar de contes amb en Paku Pillu i l'Anna Isern
DTSTART;TZID=Europe/Madrid;VALUE=DATE-TIME:20240524T173000
DTEND;TZID=Europe/Madrid;VALUE=DATE-TIME:20240524T183000
DTSTAMP;VALUE=DATE-TIME:20260422T035259Z
UID:365083b955be8c99e4b99c98fbdab19f
CREATED;VALUE=DATE-TIME:20240524T000000Z
CATEGORIES:Infantils
LOCATION:Biblioteca P. Gual i Pujadas
ORGANIZER:Biblioteca P. Gual i Pujadas
COMMENT:Preu: Gratuït
URL:https://www.canetdemar.cat/document.php?id=25578
END:VEVENT
END:VCALENDAR