BEGIN:VCALENDAR
VERSION:2.0
PRODID:-//Plone.org//NONSGML plone.app.event//EN
X-WR-TIMEZONE:Europe/Madrid
BEGIN:VEVENT
SUMMARY:Connecta't
DTSTART;TZID=Europe/Madrid;VALUE=DATE-TIME:20240514T100000
DTEND;TZID=Europe/Madrid;VALUE=DATE-TIME:20240514T110000
DTSTAMP;VALUE=DATE-TIME:20260423T103434Z
UID:7934350b3e5b66eff3b0fb572b83e5b5
CREATED;VALUE=DATE-TIME:20240514T000000Z
LOCATION:Biblioteca P. Gual i Pujadas
ORGANIZER:Biblioteca P. Gual i Pujadas
COMMENT:Preu: Gratuït
DESCRIPTION:Tallers d'alfabetització digital
URL:https://www.canetdemar.cat/document.php?id=25557
END:VEVENT
END:VCALENDAR