BEGIN:VCALENDAR
VERSION:2.0
PRODID:-//Plone.org//NONSGML plone.app.event//EN
X-WR-TIMEZONE:Europe/Madrid
BEGIN:VEVENT
SUMMARY:Reunió amb veïns de Canet
DTSTART;TZID=Europe/Madrid;VALUE=DATE-TIME:20240426T100000
DTEND;TZID=Europe/Madrid;VALUE=DATE-TIME:20240426T110000
DTSTAMP;VALUE=DATE-TIME:20260423T132031Z
UID:0ef1ddc80f159cecd556e321a2e3210a
CREATED;VALUE=DATE-TIME:20240426T000000Z
CATEGORIES:Agenda institucional
LOCATION:Despatx de l'alcaldia - Carrer Ample, 11
URL:https://www.canetdemar.cat/document.php?id=25552
END:VEVENT
END:VCALENDAR