BEGIN:VCALENDAR
VERSION:2.0
PRODID:-//Plone.org//NONSGML plone.app.event//EN
X-WR-TIMEZONE:Europe/Madrid
BEGIN:VEVENT
SUMMARY:Visita Residència Guillem Mas
DTSTART;TZID=Europe/Madrid;VALUE=DATE-TIME:20240423T121500
DTEND;TZID=Europe/Madrid;VALUE=DATE-TIME:20240423T131500
DTSTAMP;VALUE=DATE-TIME:20260425T170609Z
UID:2b347cebbb7e36561710e6c4ed8d4c4d
CREATED;VALUE=DATE-TIME:20240423T000000Z
CATEGORIES:Agenda institucional
URL:https://www.canetdemar.cat/document.php?id=25511
END:VEVENT
END:VCALENDAR