BEGIN:VCALENDAR
VERSION:2.0
PRODID:-//Plone.org//NONSGML plone.app.event//EN
X-WR-TIMEZONE:Europe/Madrid
BEGIN:VEVENT
SUMMARY:Repartiment premis Cursa Ciclomotors
DTSTART;TZID=Europe/Madrid;VALUE=DATE-TIME:20240420T193000
DTEND;TZID=Europe/Madrid;VALUE=DATE-TIME:20240420T203000
DTSTAMP;VALUE=DATE-TIME:20260424T221503Z
UID:0609b935129a27de16aa993997e3ed4c
CREATED;VALUE=DATE-TIME:20240420T000000Z
CATEGORIES:Agenda institucional
LOCATION:Polígon Industrial de Canet
URL:https://www.canetdemar.cat/document.php?id=25505
END:VEVENT
END:VCALENDAR